BEGIN:VCALENDAR
VERSION:2.0
PRODID:-//ChamberMaster//Event Calendar 2.0//EN
METHOD:PUBLISH
X-PUBLISHED-TTL:P3D
REFRESH-INTERVAL:P3D
CALSCALE:GREGORIAN
BEGIN:VEVENT
DTSTART:20250528T000000Z
DTEND:20250528T040000Z
X-MICROSOFT-CDO-ALLDAYEVENT:FALSE
SUMMARY:BINGO- Hosted By: Mad Pursuit and Sponsored By: SBC Chamber Foundation
DESCRIPTION:BINGO-\n\n10 Games 1 sheet - $20.00 3 Sheets - $45.00\n\nCash & Raffle Prizes\n\nThis Is a 21+ event\n\nDonations to foundation: 501-3(c)
X-ALT-DESC;FMTTYPE=text/html:BINGO-<br />\n10 Games 1 sheet - $20.00 3 Sheets - $45.00<br />\nCash &amp\; Raffle Prizes<br />\nThis Is a 21+ event<br />\nDonations to foundation: 501-3(c)<br />\n&nbsp\;
LOCATION:Mad Pursuit Brewing Company 628 San Benito Street Hollister Ca 95023
UID:e.2307.7114
SEQUENCE:3
DTSTAMP:20260420T183411Z
URL:https://business.sanbenitocountychamber.com/events/details/bingo-hosted-by-mad-pursuit-and-sponsored-by-sbc-chamber-foundation-7114
END:VEVENT

END:VCALENDAR
