BEGIN:VCALENDAR
VERSION:2.0
PRODID:-//ChamberMaster//Event Calendar 2.0//EN
METHOD:PUBLISH
X-PUBLISHED-TTL:P3D
REFRESH-INTERVAL:P3D
CALSCALE:GREGORIAN
BEGIN:VEVENT
DTSTART:20260509T160000Z
DTEND:20260509T190000Z
X-MICROSOFT-CDO-ALLDAYEVENT:FALSE
SUMMARY:Community STRAW Planting Day
DESCRIPTION:Join us in restoring wildlife habitat!
X-ALT-DESC;FMTTYPE=text/html:Join us in restoring wildlife habitat!
LOCATION:Nyland Property San Juan Bautista\, CA 95045
UID:e.2307.7351
SEQUENCE:3
DTSTAMP:20260422T202902Z
URL:https://business.sanbenitocountychamber.com/events/details/community-straw-planting-day-7351
END:VEVENT

END:VCALENDAR
