BEGIN:VCALENDAR
VERSION:2.0
PRODID:-//ChamberMaster//Event Calendar 2.0//EN
METHOD:PUBLISH
X-PUBLISHED-TTL:P3D
REFRESH-INTERVAL:P3D
CALSCALE:GREGORIAN
BEGIN:VEVENT
DTSTART:20230825T010000Z
DTEND:20230825T040000Z
X-MICROSOFT-CDO-ALLDAYEVENT:FALSE
SUMMARY:Concerts in the Park
DESCRIPTION:The 2023 Concerts in the Park series\, presented by City of Hollister Parks and Recreation. ?????? Concerts in the Park McCarthy Street Park - 133 McCarthy Street\, Hollister\, CA FREE EVENT Food trucks and family fun yard games @ 6pm and the bands will play from 7pm - 9pm.
X-ALT-DESC;FMTTYPE=text/html:The 2023 Concerts in the Park series\, presented by City of Hollister Parks and Recreation. ?????? Concerts in the Park McCarthy Street Park - 133 McCarthy Street\, Hollister\, CA FREE EVENT Food trucks and family fun yard games @ 6pm and the bands will play from 7pm - 9pm.
LOCATION:McCarthy Street Park - 133 McCarthy Street\, Hollister\, CA
UID:e.2307.7006
SEQUENCE:3
DTSTAMP:20260420T235330Z
URL:https://business.sanbenitocountychamber.com/events/details/concerts-in-the-park-08-24-2023-7006
END:VEVENT

END:VCALENDAR
