BEGIN:VCALENDAR
VERSION:2.0
PRODID:-//ChamberMaster//Event Calendar 2.0//EN
METHOD:PUBLISH
X-PUBLISHED-TTL:P3D
REFRESH-INTERVAL:P3D
CALSCALE:GREGORIAN
BEGIN:VEVENT
DTSTART:20220823T000000Z
DTEND:20220823T010000Z
X-MICROSOFT-CDO-ALLDAYEVENT:FALSE
SUMMARY:Friends of the SBC Free Library Monthly Meeting
DESCRIPTION:Monthly Meeting - 5:00 PM
X-ALT-DESC;FMTTYPE=text/html:Monthly Meeting - 5:00 PM
LOCATION:SBC Library - Barbara Room - 470 Fifth Street Hollister
UID:e.2307.1831
SEQUENCE:3
DTSTAMP:20260425T035456Z
URL:https://business.sanbenitocountychamber.com/events/details/friends-of-the-sbc-free-library-monthly-meeting-08-22-2022-1831
END:VEVENT

END:VCALENDAR
