BEGIN:VCALENDAR
VERSION:2.0
PRODID:-//ChamberMaster//Event Calendar 2.0//EN
METHOD:PUBLISH
X-PUBLISHED-TTL:P3D
REFRESH-INTERVAL:P3D
CALSCALE:GREGORIAN
BEGIN:VEVENT
DTSTART:20220521T170000Z
DTEND:20220521T180000Z
X-MICROSOFT-CDO-ALLDAYEVENT:FALSE
SUMMARY:Hollister Hills SVRA\, “How to Eat Dirt Safely” Guest Speaker Series
DESCRIPTION:"How to Eat Dirt Safely" Guest Speaker Series To celebrate Safety Week\, Hollister Hills SVRA is offering separate clinics\, talks\, and walks to address all the types of recreational opportunities at the park. Events are free\; park day use fee is $5. For more information\, please email Hollister.Hills@parks.ca.gov or call (831) 636-2065. Hiking Safety Clinic at Mudstone Ranch Saturday\, May 21 at 10am Celebrate safety week and join us as we discuss hiking safety tips and tricks on this approximately 1-mile\, 1-hour guided walk. New to hiking\, want to get comfortable solo hiking\, curious about what gear to bring on a hike\, a seasoned hiker and just want to join a group of like-minded people   this is the walk for you!
X-ALT-DESC;FMTTYPE=text/html:&ldquo\;How to Eat Dirt Safely&rdquo\; Guest Speaker Series To celebrate Safety Week\, Hollister Hills SVRA is offering separate clinics\, talks\, and walks to address all the types of recreational opportunities at the park. Events are free\; park day use fee is $5. For more information\, please email Hollister.Hills@parks.ca.gov or call (831) 636-2065. Hiking Safety Clinic at Mudstone Ranch Saturday\, May 21 at 10am Celebrate safety week and join us as we discuss hiking safety tips and tricks on this approximately 1-mile\, 1-hour guided walk. New to hiking\, want to get comfortable solo hiking\, curious about what gear to bring on a hike\, a seasoned hiker and just want to join a group of like-minded people &ndash\; this is the walk for you!
LOCATION:Hollister Hills SVRA\, Mudstone Ranch
UID:e.2307.6596
SEQUENCE:3
DTSTAMP:20260424T210705Z
URL:https://business.sanbenitocountychamber.com/events/details/hollister-hills-svra-how-to-eat-dirt-safely-guest-speaker-series-05-21-2022-6596
END:VEVENT

END:VCALENDAR
