BEGIN:VCALENDAR
VERSION:2.0
PRODID:-//ChamberMaster//Event Calendar 2.0//EN
METHOD:PUBLISH
X-PUBLISHED-TTL:P3D
REFRESH-INTERVAL:P3D
CALSCALE:GREGORIAN
BEGIN:VEVENT
DTSTART:20220521T200000Z
DTEND:20220521T210000Z
X-MICROSOFT-CDO-ALLDAYEVENT:FALSE
SUMMARY:Hollister Hills SVRA\, “How to Eat Dirt Safely” Guest Speaker Series
DESCRIPTION:"How to Eat Dirt Safely" Guest Speaker Series To celebrate Safety Week\, Hollister Hills SVRA is offering separate clinics\, talks\, and walks to address all the types of recreational opportunities at the park. Events are free\; park day use fee is $5. For more information\, please email Hollister.Hills@parks.ca.gov or call (831) 636-2065. Mountain Bicycling Safety Clinic at Mudstone Ranch Saturday\, May 21 from 1-2pm Celebrate Safety Week and join guest speaker Brian Lucas\, the owner of Off the Chain\, as we address mountain biking safety and sharing multi-use trails. Tips on normal bicycle maintenance\, different kinds of puncture repair & first aid kits and other items to take with you for a safe and fun ride. What kind of gear to wear and how to pick out the best bike for your body. Some common mistakes for beginners and local places to ride that you recommend.
X-ALT-DESC;FMTTYPE=text/html:&ldquo\;How to Eat Dirt Safely&rdquo\; Guest Speaker Series To celebrate Safety Week\, Hollister Hills SVRA is offering separate clinics\, talks\, and walks to address all the types of recreational opportunities at the park. Events are free\; park day use fee is $5. For more information\, please email Hollister.Hills@parks.ca.gov or call (831) 636-2065. Mountain Bicycling Safety Clinic at Mudstone Ranch Saturday\, May 21 from 1-2pm Celebrate Safety Week and join guest speaker Brian Lucas\, the owner of Off the Chain\, as we address mountain biking safety and sharing multi-use trails. Tips on normal bicycle maintenance\, different kinds of puncture repair &amp\; first aid kits and other items to take with you for a safe and fun ride. What kind of gear to wear and how to pick out the best bike for your body. Some common mistakes for beginners and local places to ride that you recommend.
LOCATION:Hollister Hills SVRA\, Mudstone Ranch
UID:e.2307.6597
SEQUENCE:3
DTSTAMP:20260424T210801Z
URL:https://business.sanbenitocountychamber.com/events/details/hollister-hills-svra-how-to-eat-dirt-safely-guest-speaker-series-05-21-2022-6597
END:VEVENT

END:VCALENDAR
