BEGIN:VCALENDAR
VERSION:2.0
PRODID:-//ChamberMaster//Event Calendar 2.0//EN
METHOD:PUBLISH
X-PUBLISHED-TTL:P3D
REFRESH-INTERVAL:P3D
CALSCALE:GREGORIAN
BEGIN:VEVENT
DTSTART:20220514T170000Z
DTEND:20220514T180000Z
X-MICROSOFT-CDO-ALLDAYEVENT:FALSE
SUMMARY:Hollister Hills SVRA\, "How to Eat Dirt Safely” Guest Speaker Series
DESCRIPTION:"How to Eat Dirt Safely" Guest Speaker Series To celebrate Safety Week\, Hollister Hills SVRA is offering separate clinics\, talks\, and walks to address all the types of recreational opportunities at the park. Events are free\; park day use fee is $5. For more information\, please email Hollister.Hills@parks.ca.gov or call (831) 636-2065. Dirt Bike Safety Clinic at Lodge Campground\, Saturday\, May 14 from 10-11am Join guest speak Mike Ruhstorfer\, owner of Mike-Off Road & Moto Safety School for a dirt bike safety clinic to celebrate Safety Week. Topics include motorcycle maintenance\, what safety equipment to bring while riding\, trail etiquette and trail conservation. Meet at the park store located in Lodge Campground in the Lower Ranch.
X-ALT-DESC;FMTTYPE=text/html:&ldquo\;How to Eat Dirt Safely&rdquo\; Guest Speaker Series To celebrate Safety Week\, Hollister Hills SVRA is offering separate clinics\, talks\, and walks to address all the types of recreational opportunities at the park. Events are free\; park day use fee is $5. For more information\, please email Hollister.Hills@parks.ca.gov or call (831) 636-2065. Dirt Bike Safety Clinic at Lodge Campground\, Saturday\, May 14 from 10-11am Join guest speak Mike Ruhstorfer\, owner of Mike-Off Road &amp\; Moto Safety School for a dirt bike safety clinic to celebrate Safety Week. Topics include motorcycle maintenance\, what safety equipment to bring while riding\, trail etiquette and trail conservation. Meet at the park store located in Lodge Campground in the Lower Ranch.
LOCATION:Hollister Hills SVRA
UID:e.2307.6593
SEQUENCE:3
DTSTAMP:20260424T210547Z
URL:https://business.sanbenitocountychamber.com/events/details/hollister-hills-svra-how-to-eat-dirt-safely-guest-speaker-series-6593
END:VEVENT

END:VCALENDAR
