BEGIN:VCALENDAR
VERSION:2.0
PRODID:-//ChamberMaster//Event Calendar 2.0//EN
METHOD:PUBLISH
X-PUBLISHED-TTL:P3D
REFRESH-INTERVAL:P3D
CALSCALE:GREGORIAN
BEGIN:VEVENT
DTSTART:20230706T183000Z
DTEND:20230706T200000Z
X-MICROSOFT-CDO-ALLDAYEVENT:FALSE
SUMMARY:Hollister Rotary at Paines Restaurant
DESCRIPTION:
X-ALT-DESC;FMTTYPE=text/html:
LOCATION:
UID:e.2307.6718
SEQUENCE:3
DTSTAMP:20260421T021546Z
URL:https://business.sanbenitocountychamber.com/events/details/hollister-rotary-at-paines-restaurant-07-06-2023-6718
END:VEVENT

END:VCALENDAR
