BEGIN:VCALENDAR
VERSION:2.0
PRODID:-//ChamberMaster//Event Calendar 2.0//EN
METHOD:PUBLISH
X-PUBLISHED-TTL:P3D
REFRESH-INTERVAL:P3D
CALSCALE:GREGORIAN
BEGIN:VEVENT
DTSTART:20250503T170000Z
DTEND:20250503T190000Z
X-MICROSOFT-CDO-ALLDAYEVENT:FALSE
SUMMARY:Move For CASA of Santa Cruz County
DESCRIPTION:5th Annual MOVE for CASA! We are so excited for Santa Cruz County's fifth annual MOVE For CASA to take place on Saturday\, May 3! We are even more excited to announce that we are once again partnering with CASA of Monterey County this year! We invite all members of our community to join CASA Advocates\, The Friends of CASA\, Staff\, Board\, and Supporters of both Monterey and Santa Cruz counties at Elkhorn Slough Reserve at 1700 Elkhorn Road in Watsonville. This is an all-ages family-friendly event. However\, dogs are not allowed at the slough\, sorry. Register today - join a team or form one of your own! If you're joining us at the Slough\, we'll have coffee and refreshments available from 10am and will kick the event off at 10:15am. We plan on doing a 3 mile loop but there are shorter and longer distances available as well as a wheelchair accessible trail. All proceeds from this event support CASA of Monterey and Santa Cruz County's missions to match every youth experiencing foster care or juvenile probation with a trained volunteer Advocate. Because of your support\, the most vulnerable children and youth in our community are receiving more services\, performing better both academically and behaviorally in school\, and are simply experiencing a stronger sense of hope. Thank you for Moving for CASA to help make positive change for children and youth in our community and giving them an opportunity to thrive. Please send any photos or videos on why you MOVE for CASA to casaevents@casaofsantacruz.org or let us know if you have any questions.
X-ALT-DESC;FMTTYPE=text/html:5th Annual MOVE for CASA! We are so excited for Santa Cruz County&#39\;s fifth annual MOVE For CASA to take place on Saturday\, May 3! We are even more excited to announce that we are once again partnering with CASA of Monterey County this year! We invite all members of our community to join CASA Advocates\, The Friends of CASA\, Staff\, Board\, and Supporters of both Monterey and Santa Cruz counties at Elkhorn Slough Reserve at 1700 Elkhorn Road in Watsonville. This is an all-ages family-friendly event. However\, dogs are not allowed at the slough\, sorry. Register today - join a team or form one of your own! If you&#39\;re joining us at the Slough\, we&#39\;ll have coffee and refreshments available from 10am and will kick the event off at 10:15am. We plan on doing a 3 mile loop but there are shorter and longer distances available as well as a wheelchair accessible trail. All proceeds from this event support CASA of Monterey and Santa Cruz County&#39\;s missions to match every youth experiencing foster care or juvenile probation with a trained volunteer Advocate. Because of your support\, the most vulnerable children and youth in our community are receiving more services\, performing better both academically and behaviorally in school\, and are simply experiencing a stronger sense of hope. Thank you for Moving for CASA to help make positive change for children and youth in our community and giving them an opportunity to thrive. Please send any photos or videos on why you MOVE for CASA to casaevents@casaofsantacruz.org or let us know if you have any questions.
LOCATION:Elkhorn Slough\, 1700 Elkhorn Road\, Watsonville\, CA 95076
UID:e.2307.7104
SEQUENCE:3
DTSTAMP:20260420T183239Z
URL:https://business.sanbenitocountychamber.com/events/details/move-for-casa-of-santa-cruz-county-7104
END:VEVENT

END:VCALENDAR
