BEGIN:VCALENDAR
VERSION:2.0
PRODID:-//ChamberMaster//Event Calendar 2.0//EN
METHOD:PUBLISH
X-PUBLISHED-TTL:P3D
REFRESH-INTERVAL:P3D
CALSCALE:GREGORIAN
BEGIN:VEVENT
DTSTART:20220813T020000Z
DTEND:20220813T040000Z
X-MICROSOFT-CDO-ALLDAYEVENT:FALSE
SUMMARY:Movies Under the Stars
DESCRIPTION:Hollister Recreation Presents: Movies Under the Stars Movie: LUCA Playing on August 12th. We are excited to announce our lineup for this summer's Free Movies under the Stars at McCarthy street Park. Join us at 7 PM for fun yard games. Movies will begin at dusk. We will also have food vendors in attendance.
X-ALT-DESC;FMTTYPE=text/html:Hollister Recreation Presents: Movies Under the Stars Movie: LUCA Playing on August 12th. We are excited to announce our lineup for this summer&rsquo\;s Free Movies under the Stars at McCarthy street Park. Join us at 7 PM for fun yard games. Movies will begin at dusk. We will also have food vendors in attendance.
LOCATION:McCarthy Street Park 133 McCarthy Street Hollister\, CA 95023
UID:e.2307.6601
SEQUENCE:3
DTSTAMP:20260425T024257Z
URL:https://business.sanbenitocountychamber.com/events/details/movies-under-the-stars-08-12-2022-6601
END:VEVENT

END:VCALENDAR
