BEGIN:VCALENDAR
VERSION:2.0
PRODID:-//ChamberMaster//Event Calendar 2.0//EN
METHOD:PUBLISH
X-PUBLISHED-TTL:P3D
REFRESH-INTERVAL:P3D
CALSCALE:GREGORIAN
BEGIN:VEVENT
DTSTART:20220802T220000Z
DTEND:20220803T003000Z
X-MICROSOFT-CDO-ALLDAYEVENT:FALSE
SUMMARY:PacSci EMC Career Fair
DESCRIPTION:Open Interview Day - Hiring. PacSci EMC offers the opportunity to work on teams of highly skilled professionals to solve some of the most challenging and exciting problems we face today. We are looking for those who are ready to reach the peak of technology. Please RSVP at the email: resumes@psemc.com Bring Resumes on site AVAILABLE POSITIONS -Electronic Assemblers -Mechanical Assemblers 1st and 2nd Shift(4pm - 2:30am - differential pay included) -Chemical Operations Technician -Manual Machinist -Production Supervisor -In-Process Inspectors & MORE! Benefits:  On the Spot Interviews   Great Compensation & Benefits (401K Match)   Starting Pay $18/hr or higher
X-ALT-DESC;FMTTYPE=text/html:Open Interview Day - Hiring. PacSci EMC offers the opportunity to work on teams of highly skilled professionals to solve some of the most challenging and exciting problems we face today. We are looking for those who are ready to reach the peak of technology. Please RSVP at the email: resumes@psemc.com Bring Resumes on site AVAILABLE POSITIONS -Electronic Assemblers -Mechanical Assemblers 1st and 2nd Shift(4pm - 2:30am - differential pay included) -Chemical Operations Technician -Manual Machinist -Production Supervisor -In-Process Inspectors &amp\; MORE! Benefits: &bull\;On the Spot Interviews &bull\; Great Compensation &amp\; Benefits (401K Match) &bull\; Starting Pay $18/hr or higher
LOCATION:3601 Union Rd. Hollister\, CA
UID:e.2307.6612
SEQUENCE:3
DTSTAMP:20260425T034315Z
URL:https://business.sanbenitocountychamber.com/events/details/pacsci-emc-career-fair-6612
END:VEVENT

END:VCALENDAR
