BEGIN:VCALENDAR
VERSION:2.0
PRODID:-//ChamberMaster//Event Calendar 2.0//EN
METHOD:PUBLISH
X-PUBLISHED-TTL:P3D
REFRESH-INTERVAL:P3D
CALSCALE:GREGORIAN
BEGIN:VEVENT
DTSTART:20250509T013000Z
DTEND:20250509T040000Z
X-MICROSOFT-CDO-ALLDAYEVENT:FALSE
SUMMARY:Pop A Cork
DESCRIPTION:Join us for an incredible evening at the 9th Annual Pop A Cork on Thursday\, May 8th\, 2025\, from 6:30 PM to 9:00 PM at the beautiful MOHI Ranch! Savor delicious tapas\, perfectly paired with exquisite wines\, all while supporting the amazing Kneaded Culinary Academy at Rebekah Children's Services. Don't miss this chance to indulge\, support\, and make a difference.
X-ALT-DESC;FMTTYPE=text/html:Join us for an incredible evening at the 9th Annual Pop A Cork on Thursday\, May 8th\, 2025\, from 6:30 PM to 9:00 PM at the beautiful MOHI Ranch! Savor delicious tapas\, perfectly paired with exquisite wines\, all while supporting the amazing Kneaded Culinary Academy at Rebekah Children&#39\;s Services. Don&#39\;t miss this chance to indulge\, support\, and make a difference.
LOCATION:MOHI Ranch 12775 Uvas\, Rd\, Morgan Hill\, CA. 95037
UID:e.2307.7089
SEQUENCE:3
DTSTAMP:20260420T204001Z
URL:https://business.sanbenitocountychamber.com/events/details/pop-a-cork-7089
END:VEVENT

END:VCALENDAR
