BEGIN:VCALENDAR
VERSION:2.0
PRODID:-//ChamberMaster//Event Calendar 2.0//EN
METHOD:PUBLISH
X-PUBLISHED-TTL:P3D
REFRESH-INTERVAL:P3D
CALSCALE:GREGORIAN
BEGIN:VEVENT
DTSTART:20230809T220000Z
DTEND:20230810T010000Z
X-MICROSOFT-CDO-ALLDAYEVENT:FALSE
SUMMARY:San Benito Health Foundation Food Drive
DESCRIPTION:In celebration of the National Health Center Week 2023\, San Benito Health Foundation is hosting its annual food drive-through. This is a remarkably impactful event\, last year the Foundation distributed groceries to 400 families. This year we are looking to double the number of families served! The Food Distribution Drive will be taking place on August 9\, 2023 from 3 pm   6 pm at our clinic (351 Felice Drive Hollister\, CA 95023).
X-ALT-DESC;FMTTYPE=text/html:In celebration of the National Health Center Week 2023\, San Benito Health Foundation is hosting its annual food drive-through. This is a remarkably impactful event\, last year the Foundation distributed groceries to 400 families. This year we are looking to double the number of families served! The Food Distribution Drive will be taking place on August 9\, 2023 from 3 pm &ndash\; 6 pm at our clinic (351 Felice Drive Hollister\, CA 95023).
LOCATION:San Benito Health Foundation (351 Felice Drive Hollister\, CA 95023)
UID:e.2307.7011
SEQUENCE:3
DTSTAMP:20260420T235148Z
URL:https://business.sanbenitocountychamber.com/events/details/san-benito-health-foundation-food-drive-7011
END:VEVENT

END:VCALENDAR
