BEGIN:VCALENDAR
VERSION:2.0
PRODID:-//ChamberMaster//Event Calendar 2.0//EN
METHOD:PUBLISH
X-PUBLISHED-TTL:P3D
REFRESH-INTERVAL:P3D
CALSCALE:GREGORIAN
BEGIN:VEVENT
DTSTART:20211006T170000Z
DTEND:20211006T190000Z
X-MICROSOFT-CDO-ALLDAYEVENT:FALSE
SUMMARY:Storytime at the Library - English
DESCRIPTION:Calling all children ages 0-8 and their caregivers! Listen to stories\, sing songs\, learn rhymes\, and do other fun activities.
X-ALT-DESC;FMTTYPE=text/html:Calling all children ages 0-8 and their caregivers! Listen to stories\, sing songs\, learn rhymes\, and do other fun activities.
LOCATION:San Benito Free Library 470 5th St Hollister\, CA 95023 Library Hours 12PM - 6PM
UID:e.2307.5248
SEQUENCE:3
DTSTAMP:20260423T002104Z
URL:https://business.sanbenitocountychamber.com/events/details/storytime-at-the-library-english-10-06-2021-5248
END:VEVENT

END:VCALENDAR
