BEGIN:VCALENDAR
VERSION:2.0
PRODID:-//ChamberMaster//Event Calendar 2.0//EN
METHOD:PUBLISH
X-PUBLISHED-TTL:P3D
REFRESH-INTERVAL:P3D
CALSCALE:GREGORIAN
BEGIN:VEVENT
DTSTART:20250528T180000Z
DTEND:20250528T190000Z
X-MICROSOFT-CDO-ALLDAYEVENT:FALSE
SUMMARY:Workshop "Windows of Opportunity"
DESCRIPTION:"Windows Of Opportunity" presented by Chase for Business Coaching for Impact Hosted by- Chase Bank\, SBC Chamber of Commerce\, Hollister Downtown Association and Community Foundation Epicenter
X-ALT-DESC;FMTTYPE=text/html:&quot\;Windows Of Opportunity&quot\; presented by Chase for Business Coaching for Impact Hosted by- Chase Bank\, SBC Chamber of Commerce\, Hollister Downtown Association and Community Foundation Epicenter
LOCATION:Community Foundation Epicenter 440 San Benito Street Hollister Ca 95023
UID:e.2307.7117
SEQUENCE:3
DTSTAMP:20260420T204235Z
URL:https://business.sanbenitocountychamber.com/events/details/workshop-windows-of-opportunity-7117
END:VEVENT

END:VCALENDAR
