BEGIN:VCALENDAR
VERSION:2.0
PRODID:-//ChamberMaster//Event Calendar 2.0//EN
METHOD:PUBLISH
X-PUBLISHED-TTL:P3D
REFRESH-INTERVAL:P3D
CALSCALE:GREGORIAN
BEGIN:VEVENT
DTSTART:20230715T170000Z
DTEND:20230716T020000Z
X-MICROSOFT-CDO-ALLDAYEVENT:FALSE
SUMMARY:Youth Alliance presents: the 1st Annual Hollister Native American Gathering
DESCRIPTION:The Hollister Native American Gathering committee in collaboration with Laynee "BlueBird" Reyna and Elvira Zaragoza Robinson invites you to participate in the 1st Annual Hollister Native American Gathering to be held at Hollister High School Football Stadium located at 1220 Monterey Street\, Hollister\, CA 95023 on Saturday July\, 15th 2023. Save the Date and join us for a weekend of ceremony & community on Saturday\, July 15th from 10am to 7pm. ? Ages 18 and under are free! ? Seniors $5 and Adults $10. Follow the link for tickets: https://bit.ly/HollisterNativeAmericanGathering Our mission for this exciting cultural event is to educate\, promote\, teach\, and preserve Native American cultural arts\, crafts\, dance\, and music. All proceeds will benefit this event and provide college scholarships for students. Enjoy the experience of this exciting cultural and local event. This gathering will educate\, promote\, teach and preserve Native American cultural arts\, crafts\, dance and music.
X-ALT-DESC;FMTTYPE=text/html:The Hollister Native American Gathering committee in collaboration with Laynee &ldquo\;BlueBird&rdquo\; Reyna and Elvira Zaragoza Robinson invites you to participate in the 1st Annual Hollister Native American Gathering to be held at Hollister High School Football Stadium located at 1220 Monterey Street\, Hollister\, CA 95023 on Saturday July\, 15th 2023. Save the Date and join us for a weekend of ceremony &amp\; community on Saturday\, July 15th from 10am to 7pm. ? Ages 18 and under are free! ? Seniors $5 and Adults $10. Follow the link for tickets: https://bit.ly/HollisterNativeAmericanGathering Our mission for this exciting cultural event is to educate\, promote\, teach\, and preserve Native American cultural arts\, crafts\, dance\, and music. All proceeds will benefit this event and provide college scholarships for students. Enjoy the experience of this exciting cultural and local event. This gathering will educate\, promote\, teach and preserve Native American cultural arts\, crafts\, dance and music.
LOCATION:Hollister High School Football Stadium located at 1220 Monterey Street\, Hollister\, CA 95023
UID:e.2307.6851
SEQUENCE:3
DTSTAMP:20260421T020740Z
URL:https://business.sanbenitocountychamber.com/events/details/youth-alliance-presents-the-1st-annual-hollister-native-american-gathering-6851
END:VEVENT

END:VCALENDAR
